BEGIN:VCALENDAR
VERSION:2.0
PRODID:-//MoreDirt v1.0//EN
BEGIN:VEVENT
DTSTAMP:20150730T130000Z
ORGANIZER;CN=Ready Set Go Adventures:MAILTO:
STATUS:CONFIRMED
UID:MORESPORTSNETWORK6811
DTSTART:20251130T080000+0000
DTEND:20251130T120000+0000
SUMMARY:Frosty Woods MTB Race 2025
DESCRIPTION:Frosty Woods MTB Race 2025 - more details: https://www.moredirt.com/event/6811
X-ALT-DESC;FMTTYPE=text/html:Frosty Woods MTB Race 2025 - more details: https://www.moredirt.com/event/6811
LOCATION:
END:VEVENT
END:VCALENDAR