BEGIN:VCALENDAR
VERSION:2.0
PRODID:-//MoreDirt v1.0//EN
BEGIN:VEVENT
DTSTAMP:20150730T130000Z
ORGANIZER;CN=Focus Rides Events:MAILTO:
STATUS:CONFIRMED
UID:MORESPORTSNETWORK6809
DTSTART:20260301T080000+0000
DTEND:20260301T120000+0000
SUMMARY:Focus Rides Winter Classic MTB XC Series RD4
DESCRIPTION:Focus Rides Winter Classic MTB XC Series RD4 - more details: https://www.moredirt.com/event/6809
X-ALT-DESC;FMTTYPE=text/html:Focus Rides Winter Classic MTB XC Series RD4 - more details: https://www.moredirt.com/event/6809
LOCATION:
END:VEVENT
END:VCALENDAR