BEGIN:VCALENDAR
VERSION:2.0
PRODID:-//MoreDirt v1.0//EN
BEGIN:VEVENT
DTSTAMP:20150730T130000Z
ORGANIZER;CN=Focus Rides Events:MAILTO:
STATUS:CONFIRMED
UID:MORESPORTSNETWORK6806
DTSTART:20260117T080000+0000
DTEND:20260117T120000+0000
SUMMARY:Focus Rides Winter Classic MTB XC Series RD1
DESCRIPTION:Focus Rides Winter Classic MTB XC Series RD1 - more details: https://www.moredirt.com/event/6806
X-ALT-DESC;FMTTYPE=text/html:Focus Rides Winter Classic MTB XC Series RD1 - more details: https://www.moredirt.com/event/6806
LOCATION:
END:VEVENT
END:VCALENDAR