BEGIN:VCALENDAR
VERSION:2.0
PRODID:-//MoreDirt v1.0//EN
BEGIN:VEVENT
DTSTAMP:20150730T130000Z
ORGANIZER;CN=Just Pedal Hurtwood:MAILTO:
STATUS:CONFIRMED
UID:MORESPORTSNETWORK6805
DTSTART:20251025T080000Z
DTEND:20251025T120000Z
SUMMARY:Specialized Turbo Levo 4 Demo Event at Just Pedal Hurtwood
DESCRIPTION:Specialized Turbo Levo 4 Demo Event at Just Pedal Hurtwood - more details: https://www.moredirt.com/event/6805
X-ALT-DESC;FMTTYPE=text/html:Specialized Turbo Levo 4 Demo Event at Just Pedal Hurtwood - more details: https://www.moredirt.com/event/6805
LOCATION:
END:VEVENT
END:VCALENDAR