BEGIN:VCALENDAR
VERSION:2.0
PRODID:-//MoreDirt v1.0//EN
BEGIN:VEVENT
DTSTAMP:20150730T130000Z
ORGANIZER;CN=Cyclo-Cross North East (CXNE):MAILTO:
STATUS:CONFIRMED
UID:MORESPORTSNETWORK6803
DTSTART:20251214T080000+0000
DTEND:20251214T120000+0000
SUMMARY:North East Cyclo-Cross League Round 8
DESCRIPTION:North East Cyclo-Cross League Round 8 - more details: https://www.moredirt.com/event/6803
X-ALT-DESC;FMTTYPE=text/html:North East Cyclo-Cross League Round 8 - more details: https://www.moredirt.com/event/6803
LOCATION:
END:VEVENT
END:VCALENDAR