BEGIN:VCALENDAR
VERSION:2.0
PRODID:-//MoreDirt v1.0//EN
BEGIN:VEVENT
DTSTAMP:20150730T130000Z
ORGANIZER;CN=Cyclo-Cross North East (CXNE):MAILTO:
STATUS:CONFIRMED
UID:MORESPORTSNETWORK6802
DTSTART:20251109T080000+0000
DTEND:20251109T120000+0000
SUMMARY:North East Cyclo-Cross League Round 6
DESCRIPTION:North East Cyclo-Cross League Round 6 - more details: https://www.moredirt.com/event/6802
X-ALT-DESC;FMTTYPE=text/html:North East Cyclo-Cross League Round 6 - more details: https://www.moredirt.com/event/6802
LOCATION:
END:VEVENT
END:VCALENDAR