BEGIN:VCALENDAR
VERSION:2.0
PRODID:-//MoreDirt v1.0//EN
BEGIN:VEVENT
DTSTAMP:20150730T130000Z
ORGANIZER;CN=Cyclo-Cross North East (CXNE):MAILTO:
STATUS:CONFIRMED
UID:MORESPORTSNETWORK6800
DTSTART:20251026T080000+0000
DTEND:20251026T120000+0000
SUMMARY:North East Cyclo-Cross League Round 4
DESCRIPTION:North East Cyclo-Cross League Round 4 - more details: https://www.moredirt.com/event/6800
X-ALT-DESC;FMTTYPE=text/html:North East Cyclo-Cross League Round 4 - more details: https://www.moredirt.com/event/6800
LOCATION:
END:VEVENT
END:VCALENDAR