BEGIN:VCALENDAR
VERSION:2.0
PRODID:-//MoreDirt v1.0//EN
BEGIN:VEVENT
DTSTAMP:20150730T130000Z
ORGANIZER;CN=West Midlands Cyclo-Cross League:MAILTO:
STATUS:CONFIRMED
UID:MORESPORTSNETWORK6798
DTSTART:20251207T080000+0000
DTEND:20251207T120000+0000
SUMMARY:West Midlands Cyclo-Cross League Round 11
DESCRIPTION:West Midlands Cyclo-Cross League Round 11 - more details: https://www.moredirt.com/event/6798
X-ALT-DESC;FMTTYPE=text/html:West Midlands Cyclo-Cross League Round 11 - more details: https://www.moredirt.com/event/6798
LOCATION:
END:VEVENT
END:VCALENDAR