BEGIN:VCALENDAR
VERSION:2.0
PRODID:-//MoreDirt v1.0//EN
BEGIN:VEVENT
DTSTAMP:20150730T130000Z
ORGANIZER;CN=Sion James:MAILTO:
STATUS:CONFIRMED
UID:MORESPORTSNETWORK6797
DTSTART:20260208T080000+0000
DTEND:20260208T120000+0000
SUMMARY:Black Mountains MBO - Llangynidr 26
DESCRIPTION:Black Mountains MBO - Llangynidr 26 - more details: https://www.moredirt.com/event/6797
X-ALT-DESC;FMTTYPE=text/html:Black Mountains MBO - Llangynidr 26 - more details: https://www.moredirt.com/event/6797
LOCATION:
END:VEVENT
END:VCALENDAR