BEGIN:VCALENDAR
VERSION:2.0
PRODID:-//MoreDirt v1.0//EN
BEGIN:VEVENT
DTSTAMP:20150730T130000Z
ORGANIZER;CN=West Midlands Cyclo-Cross League:MAILTO:
STATUS:CONFIRMED
UID:MORESPORTSNETWORK6793
DTSTART:20251026T080000+0000
DTEND:20251026T120000+0000
SUMMARY:West Midlands Cyclo-Cross League Round 7
DESCRIPTION:West Midlands Cyclo-Cross League Round 7 - more details: https://www.moredirt.com/event/6793
X-ALT-DESC;FMTTYPE=text/html:West Midlands Cyclo-Cross League Round 7 - more details: https://www.moredirt.com/event/6793
LOCATION:
END:VEVENT
END:VCALENDAR