BEGIN:VCALENDAR
VERSION:2.0
PRODID:-//MoreDirt v1.0//EN
BEGIN:VEVENT
DTSTAMP:20150730T130000Z
ORGANIZER;CN=British Cycling:MAILTO:
STATUS:CONFIRMED
UID:MORESPORTSNETWORK6792
DTSTART:20251115T080000+0000
DTEND:20251115T120000+0000
SUMMARY:Lloyds Cyclo-cross National Trophy Series 2025/26 Round 4
DESCRIPTION:Lloyds Cyclo-cross National Trophy Series 2025/26 Round 4 - more details: https://www.moredirt.com/event/6792
X-ALT-DESC;FMTTYPE=text/html:Lloyds Cyclo-cross National Trophy Series 2025/26 Round 4 - more details: https://www.moredirt.com/event/6792
LOCATION:
END:VEVENT
END:VCALENDAR