BEGIN:VCALENDAR
VERSION:2.0
PRODID:-//MoreDirt v1.0//EN
BEGIN:VEVENT
DTSTAMP:20150730T130000Z
ORGANIZER;CN=A Cycling:MAILTO:
STATUS:CONFIRMED
UID:MORESPORTSNETWORK6791
DTSTART:20260321T080000+0000
DTEND:20260321T120000+0000
SUMMARY:Battle on the Beach 2026
DESCRIPTION:Battle on the Beach 2026 - more details: https://www.moredirt.com/event/6791
X-ALT-DESC;FMTTYPE=text/html:Battle on the Beach 2026 - more details: https://www.moredirt.com/event/6791
LOCATION:
END:VEVENT
END:VCALENDAR