BEGIN:VCALENDAR
VERSION:2.0
PRODID:-//MoreDirt v1.0//EN
BEGIN:VEVENT
DTSTAMP:20150730T130000Z
ORGANIZER;CN= South West Cyclo-Cross League :MAILTO:
STATUS:CONFIRMED
UID:MORESPORTSNETWORK6790
DTSTART:20260111T080000+0000
DTEND:20260111T120000+0000
SUMMARY:SWCX 2025/26 Round 10
DESCRIPTION:SWCX 2025/26 Round 10 - more details: https://www.moredirt.com/event/6790
X-ALT-DESC;FMTTYPE=text/html:SWCX 2025/26 Round 10 - more details: https://www.moredirt.com/event/6790
LOCATION:
END:VEVENT
END:VCALENDAR