BEGIN:VCALENDAR
VERSION:2.0
PRODID:-//MoreDirt v1.0//EN
BEGIN:VEVENT
DTSTAMP:20150730T130000Z
ORGANIZER;CN= South West Cyclo-Cross League :MAILTO:
STATUS:CONFIRMED
UID:MORESPORTSNETWORK6786
DTSTART:20251123T080000+0000
DTEND:20251123T120000+0000
SUMMARY:SWCX 2025/26 Round 6
DESCRIPTION:SWCX 2025/26 Round 6 - more details: https://www.moredirt.com/event/6786
X-ALT-DESC;FMTTYPE=text/html:SWCX 2025/26 Round 6 - more details: https://www.moredirt.com/event/6786
LOCATION:
END:VEVENT
END:VCALENDAR