BEGIN:VCALENDAR
VERSION:2.0
PRODID:-//MoreDirt v1.0//EN
BEGIN:VEVENT
DTSTAMP:20150730T130000Z
ORGANIZER;CN=Sion James:MAILTO:
STATUS:CONFIRMED
UID:MORESPORTSNETWORK6782
DTSTART:20260111T080000+0000
DTEND:20260111T120000+0000
SUMMARY:Black Mountains MBO - Mardy 26
DESCRIPTION:Black Mountains MBO - Mardy 26 - more details: https://www.moredirt.com/event/6782
X-ALT-DESC;FMTTYPE=text/html:Black Mountains MBO - Mardy 26 - more details: https://www.moredirt.com/event/6782
LOCATION:
END:VEVENT
END:VCALENDAR