BEGIN:VCALENDAR
VERSION:2.0
PRODID:-//MoreDirt v1.0//EN
BEGIN:VEVENT
DTSTAMP:20150730T130000Z
ORGANIZER;CN= South West Cyclo-Cross League :MAILTO:
STATUS:CONFIRMED
UID:MORESPORTSNETWORK6781
DTSTART:20251019T080000Z
DTEND:20251019T120000Z
SUMMARY:SWCX 2025/26 Round 4
DESCRIPTION:SWCX 2025/26 Round 4 - more details: https://www.moredirt.com/event/6781
X-ALT-DESC;FMTTYPE=text/html:SWCX 2025/26 Round 4 - more details: https://www.moredirt.com/event/6781
LOCATION:
END:VEVENT
END:VCALENDAR