BEGIN:VCALENDAR
VERSION:2.0
PRODID:-//MoreDirt v1.0//EN
BEGIN:VEVENT
DTSTAMP:20150730T130000Z
ORGANIZER;CN=Sion James:MAILTO:info@ravenadventures.co.uk
STATUS:CONFIRMED
UID:MORESPORTSNETWORK6780
DTSTART:20251102T080000+0000
DTEND:20251102T120000+0000
SUMMARY:Black Mountains MBO Llandogo 26
DESCRIPTION:Black Mountains MBO Llandogo 26 - more details: https://www.moredirt.com/event/6780
X-ALT-DESC;FMTTYPE=text/html:Black Mountains MBO Llandogo 26 - more details: https://www.moredirt.com/event/6780
LOCATION:
END:VEVENT
END:VCALENDAR