BEGIN:VCALENDAR
VERSION:2.0
PRODID:-//MoreDirt v1.0//EN
BEGIN:VEVENT
DTSTAMP:20150730T130000Z
ORGANIZER;CN=Pedalabikeaway Cycle Centre:MAILTO:
STATUS:CONFIRMED
UID:MORESPORTSNETWORK6779
DTSTART:20251025T080000Z
DTEND:20251025T120000Z
SUMMARY:Little Fodders Race - Forest of Dean
DESCRIPTION:Little Fodders Race - Forest of Dean - more details: https://www.moredirt.com/event/6779
X-ALT-DESC;FMTTYPE=text/html:Little Fodders Race - Forest of Dean - more details: https://www.moredirt.com/event/6779
LOCATION:
END:VEVENT
END:VCALENDAR