BEGIN:VCALENDAR
VERSION:2.0
PRODID:-//MoreDirt v1.0//EN
BEGIN:VEVENT
DTSTAMP:20150730T130000Z
ORGANIZER;CN=SWXC Series:MAILTO:
STATUS:CONFIRMED
UID:MORESPORTSNETWORK6775
DTSTART:20260906T080000Z
DTEND:20260906T120000Z
SUMMARY:South West XC Series RD6 2026
DESCRIPTION:South West XC Series RD6 2026 - more details: https://www.moredirt.com/event/6775
X-ALT-DESC;FMTTYPE=text/html:South West XC Series RD6 2026 - more details: https://www.moredirt.com/event/6775
LOCATION:
END:VEVENT
END:VCALENDAR