BEGIN:VCALENDAR
VERSION:2.0
PRODID:-//MoreDirt v1.0//EN
BEGIN:VEVENT
DTSTAMP:20150730T130000Z
ORGANIZER;CN=Trans Caledonia:MAILTO:
STATUS:CONFIRMED
UID:MORESPORTSNETWORK6771
DTSTART:20260906T080000Z
DTEND:20260913T120000Z
SUMMARY:Trans Caledonia 2026
DESCRIPTION:Trans Caledonia 2026 - more details: https://www.moredirt.com/event/6771
X-ALT-DESC;FMTTYPE=text/html:Trans Caledonia 2026 - more details: https://www.moredirt.com/event/6771
LOCATION:
END:VEVENT
END:VCALENDAR