BEGIN:VCALENDAR
VERSION:2.0
PRODID:-//MoreDirt v1.0//EN
BEGIN:VEVENT
DTSTAMP:20150730T130000Z
ORGANIZER;CN=Pendle Panthers:MAILTO:
STATUS:CONFIRMED
UID:MORESPORTSNETWORK6768
DTSTART:20260418T080000Z
DTEND:20260418T120000Z
SUMMARY:Gisburn Forest Under 13's Enduro
DESCRIPTION:Gisburn Forest Under 13's Enduro - more details: https://www.moredirt.com/event/6768
X-ALT-DESC;FMTTYPE=text/html:Gisburn Forest Under 13's Enduro - more details: https://www.moredirt.com/event/6768
LOCATION:
END:VEVENT
END:VCALENDAR