BEGIN:VCALENDAR
VERSION:2.0
PRODID:-//MoreDirt v1.0//EN
BEGIN:VEVENT
DTSTAMP:20150730T130000Z
ORGANIZER;CN=Glencullen Adventure Park:MAILTO:
STATUS:CONFIRMED
UID:MORESPORTSNETWORK6763
DTSTART:20260117T080000+0000
DTEND:20260117T120000+0000
SUMMARY:The GAP Winter–Spring Downhill Series RD2
DESCRIPTION:The GAP Winter–Spring Downhill Series RD2 - more details: https://www.moredirt.com/event/6763
X-ALT-DESC;FMTTYPE=text/html:The GAP Winter–Spring Downhill Series RD2 - more details: https://www.moredirt.com/event/6763
LOCATION:
END:VEVENT
END:VCALENDAR