BEGIN:VCALENDAR
VERSION:2.0
PRODID:-//MoreDirt v1.0//EN
BEGIN:VEVENT
DTSTAMP:20150730T130000Z
ORGANIZER;CN=Glencullen Adventure Park:MAILTO:
STATUS:CONFIRMED
UID:MORESPORTSNETWORK6762
DTSTART:20251129T080000+0000
DTEND:20251129T120000+0000
SUMMARY:The GAP Winter–Spring Downhill Series RD1
DESCRIPTION:The GAP Winter–Spring Downhill Series RD1 - more details: https://www.moredirt.com/event/6762
X-ALT-DESC;FMTTYPE=text/html:The GAP Winter–Spring Downhill Series RD1 - more details: https://www.moredirt.com/event/6762
LOCATION:
END:VEVENT
END:VCALENDAR