BEGIN:VCALENDAR
VERSION:2.0
PRODID:-//MoreDirt v1.0//EN
BEGIN:VEVENT
DTSTAMP:20150730T130000Z
ORGANIZER;CN=Lakelander Gravel Grinder:MAILTO:
STATUS:CONFIRMED
UID:MORESPORTSNETWORK6761
DTSTART:20260321T080000+0000
DTEND:20260321T120000+0000
SUMMARY:Lakelander Gravel Grinder 2026
DESCRIPTION:Lakelander Gravel Grinder 2026 - more details: https://www.moredirt.com/event/6761
X-ALT-DESC;FMTTYPE=text/html:Lakelander Gravel Grinder 2026 - more details: https://www.moredirt.com/event/6761
LOCATION:
END:VEVENT
END:VCALENDAR