BEGIN:VCALENDAR
VERSION:2.0
PRODID:-//MoreDirt v1.0//EN
BEGIN:VEVENT
DTSTAMP:20150730T130000Z
ORGANIZER;CN=Woodland Riders Racing:MAILTO:
STATUS:CONFIRMED
UID:MORESPORTSNETWORK6760
DTSTART:20251207T080000+0000
DTEND:20251207T120000+0000
SUMMARY:Woodlandriders Racing Winter Series Round 2
DESCRIPTION:Woodlandriders Racing Winter Series Round 2 - more details: https://www.moredirt.com/event/6760
X-ALT-DESC;FMTTYPE=text/html:Woodlandriders Racing Winter Series Round 2 - more details: https://www.moredirt.com/event/6760
LOCATION:
END:VEVENT
END:VCALENDAR