BEGIN:VCALENDAR
VERSION:2.0
PRODID:-//MoreDirt v1.0//EN
BEGIN:VEVENT
DTSTAMP:20150730T130000Z
ORGANIZER;CN=Woodland Riders Racing:MAILTO:
STATUS:CONFIRMED
UID:MORESPORTSNETWORK6759
DTSTART:20251102T080000+0000
DTEND:20251102T120000+0000
SUMMARY:Woodlandriders Racing Winter Series Round 1
DESCRIPTION:Woodlandriders Racing Winter Series Round 1 - more details: https://www.moredirt.com/event/6759
X-ALT-DESC;FMTTYPE=text/html:Woodlandriders Racing Winter Series Round 1 - more details: https://www.moredirt.com/event/6759
LOCATION:
END:VEVENT
END:VCALENDAR