BEGIN:VCALENDAR
VERSION:2.0
PRODID:-//MoreDirt v1.0//EN
BEGIN:VEVENT
DTSTAMP:20150730T130000Z
ORGANIZER;CN=SheRides Collective:MAILTO:
STATUS:CONFIRMED
UID:MORESPORTSNETWORK6755
DTSTART:20251018T080000Z
DTEND:20251018T120000Z
SUMMARY:SheRides - Eastridge Woods Social Ride
DESCRIPTION:SheRides - Eastridge Woods Social Ride - more details: https://www.moredirt.com/event/6755
X-ALT-DESC;FMTTYPE=text/html:SheRides - Eastridge Woods Social Ride - more details: https://www.moredirt.com/event/6755
LOCATION:
END:VEVENT
END:VCALENDAR