BEGIN:VCALENDAR
VERSION:2.0
PRODID:-//MoreDirt v1.0//EN
BEGIN:VEVENT
DTSTAMP:20150730T130000Z
ORGANIZER;CN=The Friends of Raystown Lake:MAILTO:
STATUS:CONFIRMED
UID:MORESPORTSNETWORK6750
DTSTART:20260515T080000Z
DTEND:20260516T120000Z
SUMMARY:DirtFest 2026
DESCRIPTION:DirtFest 2026 - more details: https://www.moredirt.com/event/6750
X-ALT-DESC;FMTTYPE=text/html:DirtFest 2026 - more details: https://www.moredirt.com/event/6750
LOCATION:
END:VEVENT
END:VCALENDAR