BEGIN:VCALENDAR
VERSION:2.0
PRODID:-//MoreDirt v1.0//EN
BEGIN:VEVENT
DTSTAMP:20150730T130000Z
ORGANIZER;CN=Cyclewise:MAILTO:
STATUS:CONFIRMED
UID:MORESPORTSNETWORK6749
DTSTART:20251011T080000Z
DTEND:20251011T120000Z
SUMMARY:Deviate Cycles Demo Ride with Cyclewise
DESCRIPTION:Deviate Cycles Demo Ride with Cyclewise - more details: https://www.moredirt.com/event/6749
X-ALT-DESC;FMTTYPE=text/html:Deviate Cycles Demo Ride with Cyclewise - more details: https://www.moredirt.com/event/6749
LOCATION:
END:VEVENT
END:VCALENDAR