BEGIN:VCALENDAR
VERSION:2.0
PRODID:-//MoreDirt v1.0//EN
BEGIN:VEVENT
DTSTAMP:20150730T130000Z
ORGANIZER;CN=Gravel Ride Series:MAILTO:
STATUS:CONFIRMED
UID:MORESPORTSNETWORK6748
DTSTART:20251018T080000Z
DTEND:20251018T120000Z
SUMMARY:Gravel Ride Series - Wicklow
DESCRIPTION:Gravel Ride Series - Wicklow - more details: https://www.moredirt.com/event/6748
X-ALT-DESC;FMTTYPE=text/html:Gravel Ride Series - Wicklow - more details: https://www.moredirt.com/event/6748
LOCATION:
END:VEVENT
END:VCALENDAR