BEGIN:VCALENDAR
VERSION:2.0
PRODID:-//MoreDirt v1.0//EN
BEGIN:VEVENT
DTSTAMP:20150730T130000Z
ORGANIZER;CN=MTB East - Travers Bikes:MAILTO:
STATUS:CONFIRMED
UID:MORESPORTSNETWORK6741
DTSTART:20260705T080000Z
DTEND:20260705T120000Z
SUMMARY:MTB East Round 7 - Potash
DESCRIPTION:MTB East Round 7 - Potash - more details: https://www.moredirt.com/event/6741
X-ALT-DESC;FMTTYPE=text/html:MTB East Round 7 - Potash - more details: https://www.moredirt.com/event/6741
LOCATION:
END:VEVENT
END:VCALENDAR