BEGIN:VCALENDAR
VERSION:2.0
PRODID:-//MoreDirt v1.0//EN
BEGIN:VEVENT
DTSTAMP:20150730T130000Z
ORGANIZER;CN=MTB East - Travers Bikes:MAILTO:
STATUS:CONFIRMED
UID:MORESPORTSNETWORK6739
DTSTART:20260510T080000Z
DTEND:20260510T120000Z
SUMMARY:MTB East Round 4 - Gallows Green
DESCRIPTION:MTB East Round 4 - Gallows Green - more details: https://www.moredirt.com/event/6739
X-ALT-DESC;FMTTYPE=text/html:MTB East Round 4 - Gallows Green - more details: https://www.moredirt.com/event/6739
LOCATION:
END:VEVENT
END:VCALENDAR