BEGIN:VCALENDAR
VERSION:2.0
PRODID:-//MoreDirt v1.0//EN
BEGIN:VEVENT
DTSTAMP:20150730T130000Z
ORGANIZER;CN=MTB East - Travers Bikes:MAILTO:
STATUS:CONFIRMED
UID:MORESPORTSNETWORK6736
DTSTART:20260329T080000Z
DTEND:20260329T120000Z
SUMMARY:MTB East Round 1 - Potash
DESCRIPTION:MTB East Round 1 - Potash - more details: https://www.moredirt.com/event/6736
X-ALT-DESC;FMTTYPE=text/html:MTB East Round 1 - Potash - more details: https://www.moredirt.com/event/6736
LOCATION:
END:VEVENT
END:VCALENDAR