BEGIN:VCALENDAR
VERSION:2.0
PRODID:-//MoreDirt v1.0//EN
BEGIN:VEVENT
DTSTAMP:20150730T130000Z
ORGANIZER;CN=Team Ballyhoura:MAILTO:
STATUS:CONFIRMED
UID:MORESPORTSNETWORK6735
DTSTART:20251108T080000+0000
DTEND:20251108T120000+0000
SUMMARY:Into The Dark - Ballyhoura
DESCRIPTION:Into The Dark - Ballyhoura - more details: https://www.moredirt.com/event/6735
X-ALT-DESC;FMTTYPE=text/html:Into The Dark - Ballyhoura - more details: https://www.moredirt.com/event/6735
LOCATION:
END:VEVENT
END:VCALENDAR