BEGIN:VCALENDAR
VERSION:2.0
PRODID:-//MoreDirt v1.0//EN
BEGIN:VEVENT
DTSTAMP:20150730T130000Z
ORGANIZER;CN=Mini Enduro:MAILTO:
STATUS:CONFIRMED
UID:MORESPORTSNETWORK6734
DTSTART:20251115T080000+0000
DTEND:20251115T120000+0000
SUMMARY:Mini Enduro - Night Enduro Llandegla
DESCRIPTION:Mini Enduro - Night Enduro Llandegla - more details: https://www.moredirt.com/event/6734
X-ALT-DESC;FMTTYPE=text/html:Mini Enduro - Night Enduro Llandegla - more details: https://www.moredirt.com/event/6734
LOCATION:
END:VEVENT
END:VCALENDAR