BEGIN:VCALENDAR
VERSION:2.0
PRODID:-//MoreDirt v1.0//EN
BEGIN:VEVENT
DTSTAMP:20150730T130000Z
ORGANIZER;CN=Bolly Skyline:MAILTO:
STATUS:CONFIRMED
UID:MORESPORTSNETWORK6733
DTSTART:20260807T080000Z
DTEND:20260809T120000Z
SUMMARY:Bolly Skyline MTB Enduro 2026
DESCRIPTION:Bolly Skyline MTB Enduro 2026 - more details: https://www.moredirt.com/event/6733
X-ALT-DESC;FMTTYPE=text/html:Bolly Skyline MTB Enduro 2026 - more details: https://www.moredirt.com/event/6733
LOCATION:
END:VEVENT
END:VCALENDAR