BEGIN:VCALENDAR
VERSION:2.0
PRODID:-//MoreDirt v1.0//EN
BEGIN:VEVENT
DTSTAMP:20150730T130000Z
ORGANIZER;CN=Nevis Range:MAILTO:
STATUS:CONFIRMED
UID:MORESPORTSNETWORK6732
DTSTART:20260426T080000Z
DTEND:20260426T120000Z
SUMMARY:10 Under The Ben Junior 2026
DESCRIPTION:10 Under The Ben Junior 2026 - more details: https://www.moredirt.com/event/6732
X-ALT-DESC;FMTTYPE=text/html:10 Under The Ben Junior 2026 - more details: https://www.moredirt.com/event/6732
LOCATION:
END:VEVENT
END:VCALENDAR