BEGIN:VCALENDAR
VERSION:2.0
PRODID:-//MoreDirt v1.0//EN
BEGIN:VEVENT
DTSTAMP:20150730T130000Z
ORGANIZER;CN=Descend Bike Park:MAILTO:
STATUS:CONFIRMED
UID:MORESPORTSNETWORK6729
DTSTART:20251019T080000Z
DTEND:20251019T120000Z
SUMMARY:Danny Harts Descend Winter Series R1
DESCRIPTION:Danny Harts Descend Winter Series R1 - more details: https://www.moredirt.com/event/6729
X-ALT-DESC;FMTTYPE=text/html:Danny Harts Descend Winter Series R1 - more details: https://www.moredirt.com/event/6729
LOCATION:
END:VEVENT
END:VCALENDAR