BEGIN:VCALENDAR
VERSION:2.0
PRODID:-//MoreDirt v1.0//EN
BEGIN:VEVENT
DTSTAMP:20150730T130000Z
ORGANIZER;CN=Channel UK Events CIC:MAILTO:
STATUS:CONFIRMED
UID:MORESPORTSNETWORK6728
DTSTART:20260905T080000Z
DTEND:20260905T120000Z
SUMMARY:Quantock Quake 2026
DESCRIPTION:Quantock Quake 2026 - more details: https://www.moredirt.com/event/6728
X-ALT-DESC;FMTTYPE=text/html:Quantock Quake 2026 - more details: https://www.moredirt.com/event/6728
LOCATION:
END:VEVENT
END:VCALENDAR