BEGIN:VCALENDAR
VERSION:2.0
PRODID:-//MoreDirt v1.0//EN
BEGIN:VEVENT
DTSTAMP:20150730T130000Z
ORGANIZER;CN=Channel UK Events CIC:MAILTO:
STATUS:CONFIRMED
UID:MORESPORTSNETWORK6726
DTSTART:20260613T080000Z
DTEND:20260613T120000Z
SUMMARY:Mendip Murmuration 2026
DESCRIPTION:Mendip Murmuration 2026 - more details: https://www.moredirt.com/event/6726
X-ALT-DESC;FMTTYPE=text/html:Mendip Murmuration 2026 - more details: https://www.moredirt.com/event/6726
LOCATION:
END:VEVENT
END:VCALENDAR