BEGIN:VCALENDAR
VERSION:2.0
PRODID:-//MoreDirt v1.0//EN
BEGIN:VEVENT
DTSTAMP:20150730T130000Z
ORGANIZER;CN=Pearce Cycles Events:MAILTO:
STATUS:CONFIRMED
UID:MORESPORTSNETWORK6725
DTSTART:20250914T080000Z
DTEND:20250914T120000Z
SUMMARY:Pearce Uplift Day - Redwood Park
DESCRIPTION:Pearce Uplift Day - Redwood Park - more details: https://www.moredirt.com/event/6725
X-ALT-DESC;FMTTYPE=text/html:Pearce Uplift Day - Redwood Park - more details: https://www.moredirt.com/event/6725
LOCATION:
END:VEVENT
END:VCALENDAR