BEGIN:VCALENDAR
VERSION:2.0
PRODID:-//MoreDirt v1.0//EN
BEGIN:VEVENT
DTSTAMP:20150730T130000Z
ORGANIZER;CN=Pearce Cycles Events:MAILTO:
STATUS:CONFIRMED
UID:MORESPORTSNETWORK6724
DTSTART:20251018T080000Z
DTEND:20251018T120000Z
SUMMARY:E*thirteen Sidekick Demo Day
DESCRIPTION:E*thirteen Sidekick Demo Day - more details: https://www.moredirt.com/event/6724
X-ALT-DESC;FMTTYPE=text/html:E*thirteen Sidekick Demo Day - more details: https://www.moredirt.com/event/6724
LOCATION:
END:VEVENT
END:VCALENDAR