BEGIN:VCALENDAR
VERSION:2.0
PRODID:-//MoreDirt v1.0//EN
BEGIN:VEVENT
DTSTAMP:20150730T130000Z
ORGANIZER;CN=MTB Epics UK:MAILTO:
STATUS:CONFIRMED
UID:MORESPORTSNETWORK6723
DTSTART:20260514T080000Z
DTEND:20260517T120000Z
SUMMARY:Bristol Bath 200
DESCRIPTION:Bristol Bath 200 - more details: https://www.moredirt.com/event/6723
X-ALT-DESC;FMTTYPE=text/html:Bristol Bath 200 - more details: https://www.moredirt.com/event/6723
LOCATION:
END:VEVENT
END:VCALENDAR