BEGIN:VCALENDAR
VERSION:2.0
PRODID:-//MoreDirt v1.0//EN
BEGIN:VEVENT
DTSTAMP:20150730T130000Z
ORGANIZER;CN=South West Mountain Biking:MAILTO:
STATUS:CONFIRMED
UID:MORESPORTSNETWORK6722
DTSTART:20260301T080000+0000
DTEND:20260301T120000+0000
SUMMARY:Soggy Bottom Winter Series - RD3
DESCRIPTION:Soggy Bottom Winter Series - RD3 - more details: https://www.moredirt.com/event/6722
X-ALT-DESC;FMTTYPE=text/html:Soggy Bottom Winter Series - RD3 - more details: https://www.moredirt.com/event/6722
LOCATION:
END:VEVENT
END:VCALENDAR