BEGIN:VCALENDAR
VERSION:2.0
PRODID:-//MoreDirt v1.0//EN
BEGIN:VEVENT
DTSTAMP:20150730T130000Z
ORGANIZER;CN=Run and Ride:MAILTO:
STATUS:CONFIRMED
UID:MORESPORTSNETWORK6719
DTSTART:20260307T080000+0000
DTEND:20260308T120000+0000
SUMMARY:Run & Ride Cannock Chase Winter MTB Classic
DESCRIPTION:Run & Ride Cannock Chase Winter MTB Classic - more details: https://www.moredirt.com/event/6719
X-ALT-DESC;FMTTYPE=text/html:Run & Ride Cannock Chase Winter MTB Classic - more details: https://www.moredirt.com/event/6719
LOCATION:
END:VEVENT
END:VCALENDAR