BEGIN:VCALENDAR
VERSION:2.0
PRODID:-//MoreDirt v1.0//EN
BEGIN:VEVENT
DTSTAMP:20150730T130000Z
ORGANIZER;CN=South West Cyclo-Cross League:MAILTO:
STATUS:CONFIRMED
UID:MORESPORTSNETWORK6718
DTSTART:20250928T080000Z
DTEND:20250928T120000Z
SUMMARY:SWCX 2025/26 Round 1
DESCRIPTION:SWCX 2025/26 Round 1 - more details: https://www.moredirt.com/event/6718
X-ALT-DESC;FMTTYPE=text/html:SWCX 2025/26 Round 1 - more details: https://www.moredirt.com/event/6718
LOCATION:
END:VEVENT
END:VCALENDAR