BEGIN:VCALENDAR
VERSION:2.0
PRODID:-//MoreDirt v1.0//EN
BEGIN:VEVENT
DTSTAMP:20150730T130000Z
ORGANIZER;CN=Mudslinger Events:MAILTO:
STATUS:CONFIRMED
UID:MORESPORTSNETWORK6715
DTSTART:20260315T080000+0000
DTEND:20260315T120000+0000
SUMMARY:Real West Gravel 2026
DESCRIPTION:Real West Gravel 2026 - more details: https://www.moredirt.com/event/6715
X-ALT-DESC;FMTTYPE=text/html:Real West Gravel 2026 - more details: https://www.moredirt.com/event/6715
LOCATION:
END:VEVENT
END:VCALENDAR