BEGIN:VCALENDAR
VERSION:2.0
PRODID:-//MoreDirt v1.0//EN
BEGIN:VEVENT
DTSTAMP:20150730T130000Z
ORGANIZER;CN=South West Mountain Biking:MAILTO:
STATUS:CONFIRMED
UID:MORESPORTSNETWORK6714
DTSTART:20260724T080000Z
DTEND:20260726T120000Z
SUMMARY:3SIX12 24 Hour XC Race - 2026
DESCRIPTION:3SIX12 24 Hour XC Race - 2026 - more details: https://www.moredirt.com/event/6714
X-ALT-DESC;FMTTYPE=text/html:3SIX12 24 Hour XC Race - 2026 - more details: https://www.moredirt.com/event/6714
LOCATION:
END:VEVENT
END:VCALENDAR