BEGIN:VCALENDAR
VERSION:2.0
PRODID:-//MoreDirt v1.0//EN
BEGIN:VEVENT
DTSTAMP:20150730T130000Z
ORGANIZER;CN=South West Mountain Biking:MAILTO:
STATUS:CONFIRMED
UID:MORESPORTSNETWORK6712
DTSTART:20251115T080000+0000
DTEND:20251115T120000+0000
SUMMARY:Grammarcombe Night Rider Round 2
DESCRIPTION:Grammarcombe Night Rider Round 2 - more details: https://www.moredirt.com/event/6712
X-ALT-DESC;FMTTYPE=text/html:Grammarcombe Night Rider Round 2 - more details: https://www.moredirt.com/event/6712
LOCATION:
END:VEVENT
END:VCALENDAR