BEGIN:VCALENDAR
VERSION:2.0
PRODID:-//MoreDirt v1.0//EN
BEGIN:VEVENT
DTSTAMP:20150730T130000Z
ORGANIZER;CN=Moors Valley Country Park and Forest:MAILTO:
STATUS:CONFIRMED
UID:MORESPORTSNETWORK6711
DTSTART:20250906T080000Z
DTEND:20250906T120000Z
SUMMARY:Watchmoor Bike Park Launch Party
DESCRIPTION:Watchmoor Bike Park Launch Party - more details: https://www.moredirt.com/event/6711
X-ALT-DESC;FMTTYPE=text/html:Watchmoor Bike Park Launch Party - more details: https://www.moredirt.com/event/6711
LOCATION:
END:VEVENT
END:VCALENDAR